BEGIN:VCALENDAR
VERSION:2.0
PRODID:-//Vereinigung der Freunde von Herrenchiemsee e.V. - ECPv6.15.18//NONSGML v1.0//EN
CALSCALE:GREGORIAN
METHOD:PUBLISH
X-WR-CALNAME:Vereinigung der Freunde von Herrenchiemsee e.V.
X-ORIGINAL-URL:https://herrenchiemseefreunde.de
X-WR-CALDESC:Veranstaltungen für Vereinigung der Freunde von Herrenchiemsee e.V.
REFRESH-INTERVAL;VALUE=DURATION:PT1H
X-Robots-Tag:noindex
X-PUBLISHED-TTL:PT1H
BEGIN:VTIMEZONE
TZID:Europe/Helsinki
BEGIN:DAYLIGHT
TZOFFSETFROM:+0200
TZOFFSETTO:+0300
TZNAME:EEST
DTSTART:20210328T010000
END:DAYLIGHT
BEGIN:STANDARD
TZOFFSETFROM:+0300
TZOFFSETTO:+0200
TZNAME:EET
DTSTART:20211031T010000
END:STANDARD
BEGIN:DAYLIGHT
TZOFFSETFROM:+0200
TZOFFSETTO:+0300
TZNAME:EEST
DTSTART:20220327T010000
END:DAYLIGHT
BEGIN:STANDARD
TZOFFSETFROM:+0300
TZOFFSETTO:+0200
TZNAME:EET
DTSTART:20221030T010000
END:STANDARD
BEGIN:DAYLIGHT
TZOFFSETFROM:+0200
TZOFFSETTO:+0300
TZNAME:EEST
DTSTART:20230326T010000
END:DAYLIGHT
BEGIN:STANDARD
TZOFFSETFROM:+0300
TZOFFSETTO:+0200
TZNAME:EET
DTSTART:20231029T010000
END:STANDARD
END:VTIMEZONE
BEGIN:VEVENT
DTSTART;TZID=Europe/Helsinki:20220531T190000
DTEND;TZID=Europe/Helsinki:20220531T210000
DTSTAMP:20260425T173110
CREATED:20220601T092547Z
LAST-MODIFIED:20220601T092547Z
UID:5757-1654023600-1654030800@herrenchiemseefreunde.de
SUMMARY:Begegnungen - Die Künstlerlandschaft Chiemsee in der Prinzregentenzeit
DESCRIPTION:Liebe Mitglieder der Vereinigung der Freunde von Herrenchiemsee\, \nim Rahmen der Ausstellung \n  \nGlanzvoll – die Kunst der Prinzregentenzeit am Chiemsee in der Galerie im Alten Rathaus in Prien \n  \nspricht am kommenden Dienstag\, den 31. Mai\, um 19.00 Uhr im Foyer des Chiemseesaals (Alte Rathaus-Str. 11 in Prien) die Kunsthistorikerin Dr. Ruth Negendanck zu dem Thema \nBegegnungen . Die Künstlerlandschaft Chiemsee in der Prinzregentenzeit. \n  \nDie Vortragende\, langjährige assoziierte Wissenschaftlerin am Germanischen Nationalmuseum in Nürnberg\, ist Autorin des vom Kulturförderverein Prien herausgegebenen Standardwerks Künstlerlandschaft Chiemsee und zahlreicher anderer kunsthistorischer Publikationen zur deutschen Kunst-und Kulturgeschichte und eine der besten Kenner/innen des Phänomens der Europäischen Künstlerkolonien. Es wäre schön\, wenn wieder einige Freundinnen und Freunde von Herrenchiemsee durch ihre Anwesenheit dem Abend den ihm gebührenden Glanz verleihen könnten ! \nBitte melden Sie sich für die Veranstaltung unter Tel. 08051 690 517 oder per E-Mail unter galerie@tourismus-prien.de an. \nDie Ausstellung Glanzvoll ist an diesem Dienstag von 17.00  bis 19.00 Uhr geöffnet\, so dass Sie vor dem Vortrag  der Galerie im Alten Rathaus noch einen Besuch abstatten können. Dort kann auch der Eintritt zum Vortrag  (8\,– Euro) an der Kasse gleich bezahlt werden. Für die Besucher\, die direkt zum Vortrag kommen\, gibt es eine Abendkasse im Foyer des Chiemseesaals.
URL:https://herrenchiemseefreunde.de/event/begegnungen-die-kuenstlerlandschaft-chiemsee-in-der-prinzregentenzeit/
CATEGORIES:Vortrag
END:VEVENT
END:VCALENDAR