BEGIN:VCALENDAR
VERSION:2.0
PRODID:-//Vereinigung der Freunde von Herrenchiemsee e.V. - ECPv6.15.18//NONSGML v1.0//EN
CALSCALE:GREGORIAN
METHOD:PUBLISH
X-WR-CALNAME:Vereinigung der Freunde von Herrenchiemsee e.V.
X-ORIGINAL-URL:https://herrenchiemseefreunde.de
X-WR-CALDESC:Veranstaltungen für Vereinigung der Freunde von Herrenchiemsee e.V.
REFRESH-INTERVAL;VALUE=DURATION:PT1H
X-Robots-Tag:noindex
X-PUBLISHED-TTL:PT1H
BEGIN:VTIMEZONE
TZID:Europe/Helsinki
BEGIN:DAYLIGHT
TZOFFSETFROM:+0200
TZOFFSETTO:+0300
TZNAME:EEST
DTSTART:20210328T010000
END:DAYLIGHT
BEGIN:STANDARD
TZOFFSETFROM:+0300
TZOFFSETTO:+0200
TZNAME:EET
DTSTART:20211031T010000
END:STANDARD
BEGIN:DAYLIGHT
TZOFFSETFROM:+0200
TZOFFSETTO:+0300
TZNAME:EEST
DTSTART:20220327T010000
END:DAYLIGHT
BEGIN:STANDARD
TZOFFSETFROM:+0300
TZOFFSETTO:+0200
TZNAME:EET
DTSTART:20221030T010000
END:STANDARD
BEGIN:DAYLIGHT
TZOFFSETFROM:+0200
TZOFFSETTO:+0300
TZNAME:EEST
DTSTART:20230326T010000
END:DAYLIGHT
BEGIN:STANDARD
TZOFFSETFROM:+0300
TZOFFSETTO:+0200
TZNAME:EET
DTSTART:20231029T010000
END:STANDARD
END:VTIMEZONE
BEGIN:VEVENT
DTSTART;TZID=Europe/Helsinki:20220702T153000
DTEND;TZID=Europe/Helsinki:20220702T170000
DTSTAMP:20260425T050349
CREATED:20220601T091132Z
LAST-MODIFIED:20220601T091132Z
UID:5751-1656775800-1656781200@herrenchiemseefreunde.de
SUMMARY:Gottesdienst am Patroziniumstag
DESCRIPTION:Der Gottesdienst Patroziniumstag\, Samstag\, 2. Juli 2022\, beginnt um 15.30 Uhr in der Inselkirche St. Maria.
URL:https://herrenchiemseefreunde.de/event/gottesdienst-am-patroziniumstag/
LOCATION:Inselkirche St.Maria
CATEGORIES:Gottesdienst
END:VEVENT
END:VCALENDAR